BEGIN:VCALENDAR
VERSION:2.0
PRODID:-//https://www.rocknchoirs.com///NONSGML kigkonsult.se iCalcreator 2.10.15//
METHOD:PUBLISH
BEGIN:VEVENT
UID:20260421T105948CEST-0750Kha0HC@https://www.rocknchoirs.com/
DTSTAMP:20260421T085948Z
DESCRIPTION: https://www.rocknchoirs.com/eventos/evento/53-tarragona-rock-c
 hoir-en-la-rambla-nova
DTSTART:20231219T180000Z
DTEND:20231219T190000Z
LOCATION:Rambla Nova (delante del Banco de España)\, Tarragona (Rambla Nova
  101\, 43001\, Ciutat\, Tarragona\, Catalunya)
SUMMARY:Tarragona Rock Choir en la Rambla Nova
URL:https://www.rocknchoirs.com/eventos/evento/53-tarragona-rock-choir-en-l
 a-rambla-nova
END:VEVENT
END:VCALENDAR
