BEGIN:VCALENDAR
VERSION:2.0
PRODID:-//https://www.rocknchoirs.com///NONSGML kigkonsult.se iCalcreator 2.10.15//
METHOD:PUBLISH
BEGIN:VEVENT
UID:20260421T110212CEST-34686idPd7@https://www.rocknchoirs.com/
DTSTAMP:20260421T090212Z
DESCRIPTION: https://www.rocknchoirs.com/eventos/evento/75-rock-n-friends-c
 oro-de-rock-de-granada-y-alba-g-corral
DTSTART:20240505T173000Z
DTEND:20240505T193000Z
LOCATION:Teatro Isabel la Católica (Teatro Isabel La Católica)
SUMMARY:Rock N' Friends: Coro de rock de Granada y Alba G. Corral
URL:https://www.rocknchoirs.com/eventos/evento/75-rock-n-friends-coro-de-ro
 ck-de-granada-y-alba-g-corral
END:VEVENT
END:VCALENDAR
