BEGIN:VCALENDAR
VERSION:2.0
PRODID:-//https://www.rocknchoirs.com///NONSGML kigkonsult.se iCalcreator 2.10.15//
METHOD:PUBLISH
BEGIN:VEVENT
UID:20260421T104556CEST-1370u0au8R@https://www.rocknchoirs.com/
DTSTAMP:20260421T084556Z
DESCRIPTION: https://www.rocknchoirs.com/eventos/evento/80-tarragona-rock-c
 hoir-en-el-teatre-el-magatzem
DTSTART:20240630T150000Z
DTEND:20240630T183000Z
LOCATION:teatre el magatzem (Calle de Reding 14\, 43001\, Tarragona\, Catal
 uña)
SUMMARY:Tarragona Rock Choir en el Teatre El Magatzem
URL:https://www.rocknchoirs.com/eventos/evento/80-tarragona-rock-choir-en-e
 l-teatre-el-magatzem
END:VEVENT
END:VCALENDAR
