BEGIN:VCALENDAR
VERSION:2.0
PRODID:-//https://www.rocknchoirs.com///NONSGML kigkonsult.se iCalcreator 2.10.15//
METHOD:PUBLISH
BEGIN:VEVENT
UID:20260421T105834CEST-4386wU4SzP@https://www.rocknchoirs.com/
DTSTAMP:20260421T085834Z
DESCRIPTION: https://www.rocknchoirs.com/eventos/evento/84-tarragona-rock-c
 hoir-concierto-de-navidad
DTSTART:20241221T110000Z
DTEND:20241221T114500Z
LOCATION:Rambla Nova\, 75 (Rambla Nova con Calle Fortuny)
SUMMARY:Tarragona Rock Choir - Concierto de Navidad
URL:https://www.rocknchoirs.com/eventos/evento/84-tarragona-rock-choir-conc
 ierto-de-navidad
END:VEVENT
END:VCALENDAR
