BEGIN:VCALENDAR
VERSION:2.0
PRODID:-//https://www.rocknchoirs.com///NONSGML kigkonsult.se iCalcreator 2.10.15//
METHOD:PUBLISH
BEGIN:VEVENT
UID:20260421T112948CEST-5328K1KE2U@https://www.rocknchoirs.com/
DTSTAMP:20260421T092948Z
DESCRIPTION: https://www.rocknchoirs.com/eventos/evento/85-barcelona-rock-c
 hoir-en-el-sants-teatre
DTSTART:20250208T170000Z
DTEND:20250208T190000Z
LOCATION:Sants Teatre\, Barcelona (Carrer d'Antoni de Capmany 72\, 08014\, 
 Sants\, Barcelona\, Catalunya)
SUMMARY:Barcelona Rock Choir en el Sants Teatre
URL:https://www.rocknchoirs.com/eventos/evento/85-barcelona-rock-choir-en-e
 l-sants-teatre
END:VEVENT
END:VCALENDAR
