BEGIN:VCALENDAR
VERSION:2.0
PRODID:-//https://www.rocknchoirs.com///NONSGML kigkonsult.se iCalcreator 2.10.15//
METHOD:PUBLISH
BEGIN:VEVENT
UID:20260421T110747CEST-2780lsUl7A@https://www.rocknchoirs.com/
DTSTAMP:20260421T090747Z
DESCRIPTION:2a edición del concierto de coros de rock que organiza el Grana
 da Rock Choir en el auditorio Manuel de Falla de Granada. https://www.rock
 nchoirs.com/eventos/evento/88-concierto-de-coros-de-rock-en-granada
DTSTART:20250125T183000Z
DTEND:20250125T203000Z
LOCATION:Auditorio Manuel de Falla (Auditorio Manuel de Falla)
SUMMARY:Concierto de Coros de Rock en Granada
URL:https://www.rocknchoirs.com/eventos/evento/88-concierto-de-coros-de-roc
 k-en-granada
END:VEVENT
END:VCALENDAR
